BEGIN:VCALENDAR
VERSION:2.0
PRODID:spatie/icalendar-generator
DESCRIPTION:Events from Learning Disabilities Association of York-Simcoe
X-WR-CALDESC:Events from Learning Disabilities Association of York-Simcoe
REFRESH-INTERVAL;VALUE=DURATION:PT1440M
X-PUBLISHED-TTL:PT1440M
BEGIN:VTIMEZONE
TZID:America/Toronto
BEGIN:STANDARD
DTSTART:20251102T020000Z
TZOFFSETFROM:-0400
TZOFFSETTO:-0500
END:STANDARD
BEGIN:DAYLIGHT
DTSTART:20260308T020000Z
TZOFFSETFROM:-0500
TZOFFSETTO:-0400
END:DAYLIGHT
END:VTIMEZONE
BEGIN:VTIMEZONE
TZID:UTC
BEGIN:STANDARD
DTSTART:20250727T164442Z
TZOFFSETFROM:+0000
TZOFFSETTO:+0000
END:STANDARD
END:VTIMEZONE
BEGIN:VEVENT
UID:66-17
DTSTAMP:20260423T164442Z
SUMMARY:SoAR (Simcoe)
LOCATION:Essa Public Library - Angus Branch
ORGANIZER;CN=ldays:MAILTO:info@ldayr.org
RRULE:FREQ=WEEKLY;UNTIL=20260519T000000Z
DTSTART;TZID=America/Toronto:20260428T170000
DTEND;TZID=America/Toronto:20260428T180000
X-ALT-DESC;FMTTYPE=TEXT/HTML:
CATEGORIES:Program,  General
URL;VALUE=URI:https://ldays.org/mc-events/soar-simcoe/?mc_id=66
METHOD:PUBLISH
END:VEVENT
END:VCALENDAR